{
 "currentVersion": 10.51,
 "serviceDescription": "Ortofotomapa de 2011 para uso interno da CML",
 "mapName": "Layers",
 "description": "",
 "copyrightText": "CM Lisboa 2016",
 "supportsDynamicLayers": true,
 "layers": [
  {
   "id": 0,
   "name": "Orto2016",
   "parentLayerId": -1,
   "defaultVisibility": true,
   "subLayerIds": null,
   "minScale": 0,
   "maxScale": 0
  }
 ],
 "tables": [],
 "spatialReference": {
  "wkid": 3763,
  "latestWkid": 3763
 },
 "singleFusedMapCache": true,
 "tileInfo": {
  "rows": 512,
  "cols": 512,
  "dpi": 96,
  "format": "MIXED",
  "compressionQuality": 75,
  "origin": {
   "x": -6185115.971864,
   "y": 6609467.029295
  },
  "spatialReference": {
   "wkid": 3763,
   "latestWkid": 3763
  },
  "lods": [
   {
    "level": 0,
    "resolution": 36.512573025146054,
    "scale": 138000
   },
   {
    "level": 1,
    "resolution": 23.812547625095252,
    "scale": 90000
   },
   {
    "level": 2,
    "resolution": 16.933367200067735,
    "scale": 64000
   },
   {
    "level": 3,
    "resolution": 13.229193125052918,
    "scale": 50000
   },
   {
    "level": 4,
    "resolution": 8.466683600033868,
    "scale": 32000
   },
   {
    "level": 5,
    "resolution": 6.614596562526459,
    "scale": 25000
   },
   {
    "level": 6,
    "resolution": 5.291677250021167,
    "scale": 20000
   },
   {
    "level": 7,
    "resolution": 3.9687579375158752,
    "scale": 15000
   },
   {
    "level": 8,
    "resolution": 2.6458386250105836,
    "scale": 10000
   },
   {
    "level": 9,
    "resolution": 2.116670900008467,
    "scale": 8000
   },
   {
    "level": 10,
    "resolution": 1.3229193125052918,
    "scale": 5000
   },
   {
    "level": 11,
    "resolution": 1.0583354500042335,
    "scale": 4000
   },
   {
    "level": 12,
    "resolution": 0.6614596562526459,
    "scale": 2500
   },
   {
    "level": 13,
    "resolution": 0.5291677250021167,
    "scale": 2000
   },
   {
    "level": 14,
    "resolution": 0.39687579375158755,
    "scale": 1500
   },
   {
    "level": 15,
    "resolution": 0.26458386250105836,
    "scale": 1000
   },
   {
    "level": 16,
    "resolution": 0.13229193125052918,
    "scale": 500
   }
  ]
 },
 "initialExtent": {
  "xmin": -125109.22869954798,
  "ymin": -100913.10329367462,
  "xmax": -89397.19124021092,
  "ymax": -87029.06468222896,
  "spatialReference": {
   "wkid": 3763,
   "latestWkid": 3763
  }
 },
 "fullExtent": {
  "xmin": -96800.06,
  "ymin": -109499.98999999987,
  "xmax": -82399.87000000002,
  "ymax": -96000,
  "spatialReference": {
   "wkid": 3763,
   "latestWkid": 3763
  }
 },
 "minScale": 138000,
 "maxScale": 500,
 "units": "esriMeters",
 "supportedImageFormatTypes": "PNG32,PNG24,PNG,JPG,DIB,TIFF,EMF,PS,PDF,GIF,SVG,SVGZ,BMP",
 "documentInfo": {
  "Title": "Ortofotomapa",
  "Author": "digc",
  "Comments": "Ortofotomapa 2016",
  "Subject": "Ortofotomapa 2016",
  "Category": "",
  "AntialiasingMode": "None",
  "TextAntialiasingMode": "Force",
  "Keywords": "Ortofotomapa 2016; DSI"
 },
 "capabilities": "Map,Query,Data",
 "supportedQueryFormats": "JSON, AMF, geoJSON",
 "exportTilesAllowed": false,
 "datumTransformations": [
  {
   "geoTransforms": [
    {
     "wkid": 108001,
     "latestWkid": 1241,
     "transformForward": true,
     "name": "NAD_1927_To_NAD_1983_NADCON"
    }
   ]
  },
  {
   "geoTransforms": [
    {
     "wkid": 108001,
     "latestWkid": 1241,
     "transformForward": false,
     "name": "NAD_1927_To_NAD_1983_NADCON"
    }
   ]
  },
  {
   "geoTransforms": [
    {
     "wkid": 1992,
     "latestWkid": 1992,
     "transformForward": true,
     "name": "Datum_73_To_ETRS_1989_3"
    }
   ]
  },
  {
   "geoTransforms": [
    {
     "wkid": 1992,
     "latestWkid": 1992,
     "transformForward": false,
     "name": "Datum_73_To_ETRS_1989_3"
    }
   ]
  }
 ],
 "supportsDatumTransformation": true,
 "maxRecordCount": 1000,
 "maxImageHeight": 4096,
 "maxImageWidth": 4096,
 "supportedExtensions": "WMSServer"
}
